BEGIN:VCALENDAR
VERSION:2.0
PRODID:-//Squarespace Inc/Squarespace 6//v6//EN
BEGIN:VEVENT
UID:601ccb0c98d65376cf76aec4@squarespace.com
DTSTAMP:20210205T044036Z
DTSTART:20211101T050000Z
DTEND:20211105T060000Z
SUMMARY:World Indigenous Peoples Conference on Education (WIPCE)
END:VEVENT
END:VCALENDAR
