BEGIN:VCALENDAR
VERSION:2.0
PRODID:-//Squarespace Inc/Squarespace 6//v6//EN
BEGIN:VEVENT
UID:5fa2305da99ebc5468e4b395@squarespace.com
DTSTAMP:20201104T044903Z
DTSTART:20201103T050000Z
DTEND:20201113T060000Z
SUMMARY:Workshop: Methods and approaches for optimising use of linked data 
 in Indigenous Health Research
END:VEVENT
END:VCALENDAR
