BEGIN:VCALENDAR
VERSION:2.0
PRODID:-//Squarespace Inc/Squarespace 6//v6//EN
BEGIN:VEVENT
UID:5fb635bd2d327a79f383edbe@squarespace.com
DTSTAMP:20201119T092220Z
DTSTART:20201126T020000Z
DTEND:20201126T053000Z
SUMMARY:Time for Change A Discussion about Aboriginal Cultural Heritage Law
 s
END:VEVENT
END:VCALENDAR
