BEGIN:VCALENDAR
VERSION:2.0
PRODID:-//Squarespace Inc/Squarespace 6//v6//EN
BEGIN:VEVENT
UID:603609ae21ebab52c193dfbb@squarespace.com
DTSTAMP:20210224T093620Z
DTSTART:20210830T093000Z
DTEND:20210902T103000Z
SUMMARY:SNAICC 9th National Conference  (30 August - 2 September 2021)
GEO:-28.027869;153.428597
LOCATION:Gold Coast Convention and Exhibition Centre\, 2684-2690 Gold Coast 
 Highway\, Broadbeach\, QLD\, 4218\, Australia
END:VEVENT
END:VCALENDAR
