BEGIN:VCALENDAR
VERSION:2.0
PRODID:-//Squarespace Inc/Squarespace 6//v6//EN
BEGIN:VEVENT
UID:5f9fbdef24342c46ded7aec5@squarespace.com
DTSTAMP:20201119T092237Z
DTSTART:20201102T050000Z
DTEND:20201102T063000Z
SUMMARY:Native Title: Revolutionary Change Series - Part 1
GEO:-31.956276;115.858822
LOCATION:Perpetual  Exchange Tower\, Level 29/2 The Esplanade\, Perth\, Wes
 tern Australia\, Australia
END:VEVENT
END:VCALENDAR
