BEGIN:VCALENDAR
VERSION:2.0
PRODID:-//Squarespace Inc/Squarespace 6//v6//EN
BEGIN:VEVENT
UID:5f9fbc1aa48e4130fe1a99b0@squarespace.com
DTSTAMP:20201119T091512Z
DTSTART:20200630T063000Z
DTEND:20201231T063000Z
SUMMARY:National Treaties Summit - Free Online Events 
GEO:-37.813628;144.963058
LOCATION:Melbourne\, Australia
END:VEVENT
END:VCALENDAR
