BEGIN:VCALENDAR
VERSION:2.0
PRODID:-//Squarespace Inc/Squarespace 6//v6//EN
BEGIN:VEVENT
UID:601cc6e52711d608cd5794b4@squarespace.com
DTSTAMP:20210205T042456Z
DTSTART:20210526T053000Z
DTEND:20210526T063000Z
SUMMARY:National Sorry Day 2021
END:VEVENT
END:VCALENDAR
