BEGIN:VCALENDAR
VERSION:2.0
PRODID:-//Squarespace Inc/Squarespace 6//v6//EN
BEGIN:VEVENT
UID:601cc8e5f00faa7a8baabc57@squarespace.com
DTSTAMP:20210205T043020Z
DTSTART:20210318T043000Z
DTEND:20210318T053000Z
SUMMARY:National Close the Gap Day 2021
END:VEVENT
END:VCALENDAR
