BEGIN:VCALENDAR
VERSION:2.0
PRODID:-//Squarespace Inc/Squarespace 6//v6//EN
BEGIN:VEVENT
UID:5efafe88d0f81e2bcb1a9724@squarespace.com
DTSTAMP:20200709T010152Z
DTSTART:20201108T080000Z
DTEND:20201115T090000Z
SUMMARY:NAIDOC Week  (8-15 November 2020)
GEO:-25.274398;133.775136
LOCATION:Australia
END:VEVENT
END:VCALENDAR
