BEGIN:VCALENDAR
VERSION:2.0
PRODID:-//Squarespace Inc/Squarespace 6//v6//EN
BEGIN:VEVENT
UID:5fb637cc2d327a79f3841e35@squarespace.com
DTSTAMP:20201119T092039Z
DTSTART:20201126T070000Z
DTEND:20201126T080000Z
SUMMARY: Our Country\, Our Way: How Indigenous people and knowledge can sav
 e Australia’s environmental and social unravelling
END:VEVENT
END:VCALENDAR
