BEGIN:VCALENDAR
VERSION:2.0
PRODID:-//Squarespace Inc/Squarespace 6//v6//EN
BEGIN:VEVENT
UID:5efd44a24e7f3d3f90c96486@squarespace.com
DTSTAMP:20201102T080430Z
DTSTART:20201104T013000Z
DTEND:20201231T023000Z
SUMMARY: IMW Australia - On Demand! 
END:VEVENT
END:VCALENDAR
