BEGIN:VCALENDAR
VERSION:2.0
PRODID:-//Squarespace Inc/Squarespace 6//v6//EN
BEGIN:VEVENT
UID:5ef418df93fc2660295382a4@squarespace.com
DTSTAMP:20210224T075405Z
DTSTART:20211027T023000Z
DTEND:20211029T033000Z
SUMMARY:Indigenous Cultural Heritage Conference (27-29 October 2021\, Melbo
 urne)
GEO:-37.815215;144.970084
LOCATION:Grand Hyatt Melbourne\, 123 Collins Street\, Melbourne\, VIC\, 300
 0\, Australia
END:VEVENT
END:VCALENDAR
