BEGIN:VCALENDAR
VERSION:2.0
PRODID:-//Squarespace Inc/Squarespace 6//v6//EN
BEGIN:VEVENT
UID:601cd3e6fa7dbf24f5a6d93e@squarespace.com
DTSTAMP:20210205T051643Z
DTSTART:20211208T053000Z
DTEND:20211210T063000Z
SUMMARY:First Nations Policy Futures: National Conference and Cultural Fest
 ival
END:VEVENT
END:VCALENDAR
