BEGIN:VCALENDAR
VERSION:2.0
PRODID:-//Squarespace Inc/Squarespace 6//v6//EN
BEGIN:VEVENT
UID:5fb63465eaf89d2b3fd36cf9@squarespace.com
DTSTAMP:20201119T092138Z
DTSTART:20201123T063000Z
DTEND:20201123T073000Z
SUMMARY:Destruction of Juukan Gorge: Law\, Mining\, and the Protection of A
 boriginal Heritage
END:VEVENT
END:VCALENDAR
