BEGIN:VCALENDAR
VERSION:2.0
PRODID:-//Squarespace Inc/Squarespace 6//v6//EN
BEGIN:VEVENT
UID:5f9fca3b0e604768db39a8fa@squarespace.com
DTSTAMP:20201102T090413Z
DTSTART:20201112T070000Z
DTEND:20201112T081500Z
SUMMARY:Laying the Foundations for Treaty: Agreements\, Treaties &amp\; Neg
 otiated Settlements (ATNS) new website launch
END:VEVENT
END:VCALENDAR
