BEGIN:VCALENDAR
VERSION:2.0
PRODID:-//Squarespace Inc/Squarespace 6//v6//EN
BEGIN:VEVENT
UID:601ccd7300355836d0c207d1@squarespace.com
DTSTAMP:20210205T044843Z
DTSTART:20210531T060000Z
DTEND:20210604T070000Z
SUMMARY:AIATSIS Summit and National Native Title Conference 2021
END:VEVENT
END:VCALENDAR
